BEGIN:VCALENDAR
VERSION:2.0
PRODID:-//Tukios.com/
BEGIN:VEVENT
UID:92b94506-ae57-4e7f-878e-5b9eb64f527d@www.witkowiakfuneralhome.com
DTSTAMP:20260420T174340Z
DTSTART:20260425T150000Z
DTEND:20260425T160000Z
SUMMARY:Visitation
DESCRIPTION:
URL:https://www.witkowiakfuneralhome.com/obituaries/geraldine-axtell
LOCATION:St. John’s Lutheran Church 4850 S. Lake Drive  Cudahy WI 53110
GEO:42.955923;-87.8493232
END:VEVENT
END:VCALENDAR