BEGIN:VCALENDAR
VERSION:2.0
PRODID:-//Tukios.com/
BEGIN:VEVENT
UID:6a432448-1936-45cb-b7ae-c5fbfa776497@www.witkowiakfuneralhome.com
DTSTAMP:20260420T174049Z
DTSTART:20260425T160000Z
DTEND:20260425T170000Z
SUMMARY:Celebration of Life
DESCRIPTION:
URL:https://www.witkowiakfuneralhome.com/obituaries/geraldine-axtell
LOCATION:St. John’s Lutheran Church 4850 S. Lake Drive  Cudahy WI 53110
GEO:42.955923;-87.8493232
END:VEVENT
END:VCALENDAR